BEGIN:VCALENDAR
VERSION:2.0
PRODID:icalendar-ruby
CALSCALE:GREGORIAN
METHOD:PUBLISH
BEGIN:VEVENT
DTSTAMP:20260421T202136Z
UID:103-389559@gc3.org
DTSTART:20260422T223000Z
DTEND:20260423T000000Z
CLASS:PUBLIC
CREATED:20260325T183125
DESCRIPTION:It's almost time for Vermontville's annual "Syrup Festival"\, l
 et's share the Love of God and help the people out for an evening.  Conta
 ct Ryan for more information.  \n 
LAST-MODIFIED:20260325T183125
LOCATION:Meet at the Park
SUMMARY:Vermontville Clean Up
URL;VALUE=URI:https://gc3.org/events/vermontville-clean-up--103/2026-04-22
ATTACH;FILENAME=vermontville-2.png;FMTTYPE=image/png:https://dq5pwpg1q8ru0.
 cloudfront.net/2026/03/25/22/31/25/f1f0abf5-cfad-4735-803f-d1629efc1c8a/ve
 rmontville-2.png
END:VEVENT
END:VCALENDAR
